BEGIN:VCALENDAR
VERSION:2.0
PRODID:-//Beyond Expectations Child Development Center - ECPv5.1.4//NONSGML v1.0//EN
CALSCALE:GREGORIAN
METHOD:PUBLISH
X-WR-CALNAME:Beyond Expectations Child Development Center
X-ORIGINAL-URL:https://www.beyondexpectationscdc.com
X-WR-CALDESC:Events for Beyond Expectations Child Development Center
BEGIN:VTIMEZONE
TZID:America/New_York
BEGIN:DAYLIGHT
TZOFFSETFROM:-0500
TZOFFSETTO:-0400
TZNAME:EDT
DTSTART:20240310T070000
END:DAYLIGHT
BEGIN:STANDARD
TZOFFSETFROM:-0400
TZOFFSETTO:-0500
TZNAME:EST
DTSTART:20241103T060000
END:STANDARD
END:VTIMEZONE
BEGIN:VEVENT
DTSTART;TZID=America/New_York:20240701T000000
DTEND;TZID=America/New_York:20240707T235900
DTSTAMP:20260421T221734
CREATED:20240703T135412Z
LAST-MODIFIED:20240703T152403Z
UID:2631-1719792000-1720396740@www.beyondexpectationscdc.com
SUMMARY:Center Closed (Holiday)
DESCRIPTION:
URL:https://www.beyondexpectationscdc.com/event/ablc-center-closed-holiday/
END:VEVENT
END:VCALENDAR